BEGIN:VCALENDAR
VERSION:2.0
PRODID:-//Radiant Moms&#039; Retreat - ECPv6.15.15//NONSGML v1.0//EN
CALSCALE:GREGORIAN
METHOD:PUBLISH
X-ORIGINAL-URL:https://radiantretreat.com
X-WR-CALDESC:Events for Radiant Moms&#039; Retreat
REFRESH-INTERVAL;VALUE=DURATION:PT1H
X-Robots-Tag:noindex
X-PUBLISHED-TTL:PT1H
BEGIN:VTIMEZONE
TZID:America/Chicago
BEGIN:DAYLIGHT
TZOFFSETFROM:-0600
TZOFFSETTO:-0500
TZNAME:CDT
DTSTART:20220313T080000
END:DAYLIGHT
BEGIN:STANDARD
TZOFFSETFROM:-0500
TZOFFSETTO:-0600
TZNAME:CST
DTSTART:20221106T070000
END:STANDARD
BEGIN:DAYLIGHT
TZOFFSETFROM:-0600
TZOFFSETTO:-0500
TZNAME:CDT
DTSTART:20230312T080000
END:DAYLIGHT
BEGIN:STANDARD
TZOFFSETFROM:-0500
TZOFFSETTO:-0600
TZNAME:CST
DTSTART:20231105T070000
END:STANDARD
BEGIN:DAYLIGHT
TZOFFSETFROM:-0600
TZOFFSETTO:-0500
TZNAME:CDT
DTSTART:20240310T080000
END:DAYLIGHT
BEGIN:STANDARD
TZOFFSETFROM:-0500
TZOFFSETTO:-0600
TZNAME:CST
DTSTART:20241103T070000
END:STANDARD
END:VTIMEZONE
BEGIN:VEVENT
DTSTART;TZID=America/Chicago:20230203T180000
DTEND;TZID=America/Chicago:20230203T193000
DTSTAMP:20260419T074442
CREATED:20230130T020609Z
LAST-MODIFIED:20230130T071128Z
UID:10000049-1675447200-1675452600@radiantretreat.com
SUMMARY:Dinner at Table Mesa Bistro
DESCRIPTION:Come enjoy dinner at Table Mesa Bistro just off the City Square. Offering modern Latin cuisine\, the extensive menu ranges from tacos and ceviche\, to burgers and sandwiches\, to seafood\, chicken\, beef\, and pork. \n				\n			\n			\n						\n				\n									\n								Sorry\, no listings were found.\n				\n							\n					\n		\n\n\n\n\n\n\n\n\n\n\n\n\n\n 
URL:https://radiantretreat.com/event/dinner-table-mesa/
LOCATION:Table Mesa Bistro\, 108 E Central Ave #10 #10\, Bentonville\, AR\, 72712
CATEGORIES:Greenbrier
ATTACH;FMTTYPE=image/jpeg:https://radiantretreat.com/wp-content/uploads/2023/01/tablemesa.jpg
END:VEVENT
END:VCALENDAR