BEGIN:VCALENDAR
VERSION:2.0
PRODID:-//Radiant Moms&#039; Retreat - ECPv6.15.15//NONSGML v1.0//EN
CALSCALE:GREGORIAN
METHOD:PUBLISH
X-ORIGINAL-URL:https://radiantretreat.com
X-WR-CALDESC:Events for Radiant Moms&#039; Retreat
REFRESH-INTERVAL;VALUE=DURATION:PT1H
X-Robots-Tag:noindex
X-PUBLISHED-TTL:PT1H
BEGIN:VTIMEZONE
TZID:America/Chicago
BEGIN:DAYLIGHT
TZOFFSETFROM:-0600
TZOFFSETTO:-0500
TZNAME:CDT
DTSTART:20250309T080000
END:DAYLIGHT
BEGIN:STANDARD
TZOFFSETFROM:-0500
TZOFFSETTO:-0600
TZNAME:CST
DTSTART:20251102T070000
END:STANDARD
BEGIN:DAYLIGHT
TZOFFSETFROM:-0600
TZOFFSETTO:-0500
TZNAME:CDT
DTSTART:20260308T080000
END:DAYLIGHT
BEGIN:STANDARD
TZOFFSETFROM:-0500
TZOFFSETTO:-0600
TZNAME:CST
DTSTART:20261101T070000
END:STANDARD
BEGIN:DAYLIGHT
TZOFFSETFROM:-0600
TZOFFSETTO:-0500
TZNAME:CDT
DTSTART:20270314T080000
END:DAYLIGHT
BEGIN:STANDARD
TZOFFSETFROM:-0500
TZOFFSETTO:-0600
TZNAME:CST
DTSTART:20271107T070000
END:STANDARD
END:VTIMEZONE
BEGIN:VEVENT
DTSTART;TZID=America/Chicago:20260208T120000
DTEND;TZID=America/Chicago:20260208T120000
DTSTAMP:20260421T062848
CREATED:20260203T193559Z
LAST-MODIFIED:20260203T193559Z
UID:10000126-1770552000-1770552000@radiantretreat.com
SUMMARY:Hotel Check Out
DESCRIPTION:  \n\n\n\n\n\n\n\n\n\n\n\n\n\n 
URL:https://radiantretreat.com/event/hotel-check-out-4/
LOCATION:Residence Inn by Marriott\, 4611 West Locust Street\, Rogers\, 72756\, United States
CATEGORIES:Bixby,Tulsa Central,Tulsa Midtown
ATTACH;FMTTYPE=image/jpeg:https://radiantretreat.com/wp-content/uploads/2025/12/ri-rogri-patio-image-53159-86806_Classic-Hor.jpg
END:VEVENT
BEGIN:VEVENT
DTSTART;TZID=America/Chicago:20260208T070000
DTEND;TZID=America/Chicago:20260208T100000
DTSTAMP:20260421T062848
CREATED:20260203T194124Z
LAST-MODIFIED:20260203T194124Z
UID:10000132-1770534000-1770544800@radiantretreat.com
SUMMARY:Breakfast (for hotel guests)
DESCRIPTION:  \n\n\n\n\n\n\n\n\n\n\n\n\n\n 
URL:https://radiantretreat.com/event/breakfast-for-hotel-guests-7/2026-02-08/
LOCATION:Residence Inn by Marriott\, 4611 West Locust Street\, Rogers\, 72756\, United States
CATEGORIES:Bixby,Tulsa Asbury,Tulsa Central,Tulsa Midtown
ATTACH;FMTTYPE=image/jpeg:https://radiantretreat.com/wp-content/uploads/2025/12/ri-rogri-rogri-breakfast-area-53785_Classic-Hor.jpg
END:VEVENT
BEGIN:VEVENT
DTSTART;TZID=America/Chicago:20260207T203000
DTEND;TZID=America/Chicago:20260207T223000
DTSTAMP:20260421T062848
CREATED:20260203T231328Z
LAST-MODIFIED:20260203T231427Z
UID:10000145-1770496200-1770503400@radiantretreat.com
SUMMARY:"Dirty" Bunco Tournament
DESCRIPTION:Jump into your jammies (optional) and join us in the Hospitality Suite for the lots of fun! We’re going to throw down — restfully\, of course — in a “Dirty” Bunco Tournament\, with prizes at stake. Bring some snacks or a beverage to share and join us in the Hospitality Suite for this easy-to-learn game\, good conversations\, and fun. \n\n\n\n\n\n\n\n\n\n\n\n\n\n 
URL:https://radiantretreat.com/event/bunco-tournament/
LOCATION:Residence Inn by Marriott\, 4611 West Locust Street\, Rogers\, 72756\, United States
CATEGORIES:Bixby,Tulsa Central,Tulsa Midtown
ATTACH;FMTTYPE=image/jpeg:https://radiantretreat.com/wp-content/uploads/2025/01/pexels-clickerhappy-705171-scaled.jpg
END:VEVENT
BEGIN:VEVENT
DTSTART;TZID=America/Chicago:20260207T150000
DTEND;TZID=America/Chicago:20260207T150000
DTSTAMP:20260421T062848
CREATED:20260203T193411Z
LAST-MODIFIED:20260203T193411Z
UID:10000125-1770476400-1770476400@radiantretreat.com
SUMMARY:Hotel Check-in
DESCRIPTION:  \n\n\n\n\n\n\n\n\n\n\n\n\n\n 
URL:https://radiantretreat.com/event/hotel-check-in-6/2026-02-07/
LOCATION:Residence Inn by Marriott\, 4611 West Locust Street\, Rogers\, 72756\, United States
CATEGORIES:Bixby,Tulsa Midtown
ATTACH;FMTTYPE=image/jpeg:https://radiantretreat.com/wp-content/uploads/2025/12/ri-rogri-patio-image-53159-86806_Classic-Hor.jpg
END:VEVENT
BEGIN:VEVENT
DTSTART;TZID=America/Chicago:20260207T070000
DTEND;TZID=America/Chicago:20260207T100000
DTSTAMP:20260421T062848
CREATED:20260203T194124Z
LAST-MODIFIED:20260203T194124Z
UID:10000131-1770447600-1770458400@radiantretreat.com
SUMMARY:Breakfast (for hotel guests)
DESCRIPTION:  \n\n\n\n\n\n\n\n\n\n\n\n\n\n 
URL:https://radiantretreat.com/event/breakfast-for-hotel-guests-7/2026-02-07/
LOCATION:Residence Inn by Marriott\, 4611 West Locust Street\, Rogers\, 72756\, United States
CATEGORIES:Bixby,Tulsa Asbury,Tulsa Central,Tulsa Midtown
ATTACH;FMTTYPE=image/jpeg:https://radiantretreat.com/wp-content/uploads/2025/12/ri-rogri-rogri-breakfast-area-53785_Classic-Hor.jpg
END:VEVENT
BEGIN:VEVENT
DTSTART;TZID=America/Chicago:20260206T210000
DTEND;TZID=America/Chicago:20260206T230000
DTSTAMP:20260421T062848
CREATED:20260203T225649Z
LAST-MODIFIED:20260203T225649Z
UID:10000140-1770411600-1770418800@radiantretreat.com
SUMMARY:Movie Night in the Hospitality Suite
DESCRIPTION:Jump into your jammies (optional) and grab your favorite snacks! We’re going to while away the evening with a good movie and good fellowship. Join us for the film and fun\, or escape to your room and catch an early bedtime — the choice is up to you! \n\n\n\n\n\n\n\n\n\n\n\n\n\n 
URL:https://radiantretreat.com/event/movie-night-in-the-hospitality-suite-2/
LOCATION:Residence Inn by Marriott\, 4611 West Locust Street\, Rogers\, 72756\, United States
CATEGORIES:Bixby,Sample,Tulsa Central,Tulsa Midtown
ATTACH;FMTTYPE=image/jpeg:https://radiantretreat.com/wp-content/uploads/2023/01/movie-night.jpg
END:VEVENT
BEGIN:VEVENT
DTSTART;TZID=America/Chicago:20260206T150000
DTEND;TZID=America/Chicago:20260206T150000
DTSTAMP:20260421T062848
CREATED:20260203T193411Z
LAST-MODIFIED:20260203T193411Z
UID:10000124-1770390000-1770390000@radiantretreat.com
SUMMARY:Hotel Check-in
DESCRIPTION:  \n\n\n\n\n\n\n\n\n\n\n\n\n\n 
URL:https://radiantretreat.com/event/hotel-check-in-6/2026-02-06/
LOCATION:Residence Inn by Marriott\, 4611 West Locust Street\, Rogers\, 72756\, United States
CATEGORIES:Bixby,Tulsa Midtown
ATTACH;FMTTYPE=image/jpeg:https://radiantretreat.com/wp-content/uploads/2025/12/ri-rogri-patio-image-53159-86806_Classic-Hor.jpg
END:VEVENT
BEGIN:VEVENT
DTSTART;TZID=America/Chicago:20260206T063000
DTEND;TZID=America/Chicago:20260206T093000
DTSTAMP:20260421T062848
CREATED:20260203T193922Z
LAST-MODIFIED:20260203T193940Z
UID:10000129-1770359400-1770370200@radiantretreat.com
SUMMARY:Breakfast (for hotel guests)
DESCRIPTION:  \n\n\n\n\n\n\n\n\n\n\n\n\n\n 
URL:https://radiantretreat.com/event/breakfast-for-hotel-guests-6/
LOCATION:Residence Inn by Marriott\, 4611 West Locust Street\, Rogers\, 72756\, United States
CATEGORIES:Bixby,Tulsa Asbury,Tulsa Central,Tulsa Midtown
ATTACH;FMTTYPE=image/jpeg:https://radiantretreat.com/wp-content/uploads/2025/12/ri-rogri-rogri-breakfast-area-53785_Classic-Hor.jpg
END:VEVENT
BEGIN:VEVENT
DTSTART;TZID=America/Chicago:20260205T150000
DTEND;TZID=America/Chicago:20260205T150000
DTSTAMP:20260421T062848
CREATED:20260203T193411Z
LAST-MODIFIED:20260203T193411Z
UID:10000123-1770303600-1770303600@radiantretreat.com
SUMMARY:Hotel Check-in
DESCRIPTION:  \n\n\n\n\n\n\n\n\n\n\n\n\n\n 
URL:https://radiantretreat.com/event/hotel-check-in-6/2026-02-05/
LOCATION:Residence Inn by Marriott\, 4611 West Locust Street\, Rogers\, 72756\, United States
CATEGORIES:Bixby,Tulsa Midtown
ATTACH;FMTTYPE=image/jpeg:https://radiantretreat.com/wp-content/uploads/2025/12/ri-rogri-patio-image-53159-86806_Classic-Hor.jpg
END:VEVENT
END:VCALENDAR