BEGIN:VCALENDAR
VERSION:2.0
PRODID:-//Radiant Moms&#039; Retreat - ECPv6.15.15//NONSGML v1.0//EN
CALSCALE:GREGORIAN
METHOD:PUBLISH
X-WR-CALNAME:Radiant Moms&#039; Retreat
X-ORIGINAL-URL:https://radiantretreat.com
X-WR-CALDESC:Events for Radiant Moms&#039; Retreat
REFRESH-INTERVAL;VALUE=DURATION:PT1H
X-Robots-Tag:noindex
X-PUBLISHED-TTL:PT1H
BEGIN:VTIMEZONE
TZID:America/Chicago
BEGIN:DAYLIGHT
TZOFFSETFROM:-0600
TZOFFSETTO:-0500
TZNAME:CDT
DTSTART:20220313T080000
END:DAYLIGHT
BEGIN:STANDARD
TZOFFSETFROM:-0500
TZOFFSETTO:-0600
TZNAME:CST
DTSTART:20221106T070000
END:STANDARD
BEGIN:DAYLIGHT
TZOFFSETFROM:-0600
TZOFFSETTO:-0500
TZNAME:CDT
DTSTART:20230312T080000
END:DAYLIGHT
BEGIN:STANDARD
TZOFFSETFROM:-0500
TZOFFSETTO:-0600
TZNAME:CST
DTSTART:20231105T070000
END:STANDARD
BEGIN:DAYLIGHT
TZOFFSETFROM:-0600
TZOFFSETTO:-0500
TZNAME:CDT
DTSTART:20240310T080000
END:DAYLIGHT
BEGIN:STANDARD
TZOFFSETFROM:-0500
TZOFFSETTO:-0600
TZNAME:CST
DTSTART:20241103T070000
END:STANDARD
BEGIN:DAYLIGHT
TZOFFSETFROM:-0600
TZOFFSETTO:-0500
TZNAME:CDT
DTSTART:20250309T080000
END:DAYLIGHT
BEGIN:STANDARD
TZOFFSETFROM:-0500
TZOFFSETTO:-0600
TZNAME:CST
DTSTART:20251102T070000
END:STANDARD
END:VTIMEZONE
BEGIN:VEVENT
DTSTART;TZID=America/Chicago:20240203T180000
DTEND;TZID=America/Chicago:20240203T193000
DTSTAMP:20260421T032427
CREATED:20231214T005101Z
LAST-MODIFIED:20231214T005101Z
UID:10000062-1706983200-1706988600@radiantretreat.com
SUMMARY:Dinner at Modoko Asian Kitchen
DESCRIPTION:Spend the evening at Modoko sampling classic dishes from Vietnam\, China and Thailand using fresh ingredients and tailored for the modern local palate. Choose from shareable family-style entrees\, sushi\, or dim sum. \n				\n			\n			\n						\n				\n									\n								Sorry\, no listings were found.
URL:https://radiantretreat.com/event/dinner-at-modoko-asian-kitchen/
LOCATION:Modoko Asian Kitchen\, 5204 W Village Pkwy\, Rogers\, AR\, 72758\, United States
CATEGORIES:Sample
END:VEVENT
BEGIN:VEVENT
DTSTART;TZID=America/Chicago:20230204T180000
DTEND;TZID=America/Chicago:20230204T193000
DTSTAMP:20260421T032428
CREATED:20230130T015949Z
LAST-MODIFIED:20230130T070539Z
UID:10000043-1675533600-1675539000@radiantretreat.com
SUMMARY:Dinner at Modoko Asian Kitchen
DESCRIPTION:Spend the evening at Modoko sampling classic dishes from Vietnam\, China and Thailand using fresh ingredients and tailored for the modern local palate. Choose from shareable family-style entrees\, sushi\, or dim sum. \n				\n			\n			\n						\n				\n									\n								Sorry\, no listings were found.
URL:https://radiantretreat.com/event/dinner-modoko/
LOCATION:Modoko Asian Kitchen\, 5204 W Village Pkwy\, Rogers\, AR\, 72758\, United States
CATEGORIES:Owasso
END:VEVENT
END:VCALENDAR