BEGIN:VCALENDAR
VERSION:2.0
PRODID:-//Radiant Moms&#039; Retreat - ECPv6.15.15//NONSGML v1.0//EN
CALSCALE:GREGORIAN
METHOD:PUBLISH
X-WR-CALNAME:Radiant Moms&#039; Retreat
X-ORIGINAL-URL:https://radiantretreat.com
X-WR-CALDESC:Events for Radiant Moms&#039; Retreat
REFRESH-INTERVAL;VALUE=DURATION:PT1H
X-Robots-Tag:noindex
X-PUBLISHED-TTL:PT1H
BEGIN:VTIMEZONE
TZID:America/Chicago
BEGIN:DAYLIGHT
TZOFFSETFROM:-0600
TZOFFSETTO:-0500
TZNAME:CDT
DTSTART:20220313T080000
END:DAYLIGHT
BEGIN:STANDARD
TZOFFSETFROM:-0500
TZOFFSETTO:-0600
TZNAME:CST
DTSTART:20221106T070000
END:STANDARD
BEGIN:DAYLIGHT
TZOFFSETFROM:-0600
TZOFFSETTO:-0500
TZNAME:CDT
DTSTART:20230312T080000
END:DAYLIGHT
BEGIN:STANDARD
TZOFFSETFROM:-0500
TZOFFSETTO:-0600
TZNAME:CST
DTSTART:20231105T070000
END:STANDARD
BEGIN:DAYLIGHT
TZOFFSETFROM:-0600
TZOFFSETTO:-0500
TZNAME:CDT
DTSTART:20240310T080000
END:DAYLIGHT
BEGIN:STANDARD
TZOFFSETFROM:-0500
TZOFFSETTO:-0600
TZNAME:CST
DTSTART:20241103T070000
END:STANDARD
BEGIN:DAYLIGHT
TZOFFSETFROM:-0600
TZOFFSETTO:-0500
TZNAME:CDT
DTSTART:20250309T080000
END:DAYLIGHT
BEGIN:STANDARD
TZOFFSETFROM:-0500
TZOFFSETTO:-0600
TZNAME:CST
DTSTART:20251102T070000
END:STANDARD
BEGIN:DAYLIGHT
TZOFFSETFROM:-0600
TZOFFSETTO:-0500
TZNAME:CDT
DTSTART:20260308T080000
END:DAYLIGHT
BEGIN:STANDARD
TZOFFSETFROM:-0500
TZOFFSETTO:-0600
TZNAME:CST
DTSTART:20261101T070000
END:STANDARD
BEGIN:DAYLIGHT
TZOFFSETFROM:-0600
TZOFFSETTO:-0500
TZNAME:CDT
DTSTART:20270314T080000
END:DAYLIGHT
BEGIN:STANDARD
TZOFFSETFROM:-0500
TZOFFSETTO:-0600
TZNAME:CST
DTSTART:20271107T070000
END:STANDARD
END:VTIMEZONE
BEGIN:VEVENT
DTSTART;TZID=America/Chicago:20260206T193000
DTEND;TZID=America/Chicago:20260206T203000
DTSTAMP:20260421T043311
CREATED:20260203T224724Z
LAST-MODIFIED:20260203T225008Z
UID:10000139-1770406200-1770409800@radiantretreat.com
SUMMARY:Dinner at Local Lime
DESCRIPTION:Join us for an off-the-map Fresh-Mex dinner. Local Lime serves up flavor-packed dishes inspired by Mexican street fare\, Latin American flavors with a hint of Tex-Mex flare\, and delicious handcrafted cocktails. \n				\n			\n			\n						\n				\n									\n												\n								\n																				\n										\n						\n												\n										Local Lime \n			\n		5.0\n	\n		\n		\n		\n		\n		\n		\n			\n\n																						\n								\n																						\n						\n					\n								\n								\n								\n								\n					\n						\n							\n								\n									\n								\n							\n														\n								\n									\n								\n							\n																																									\n											\n				\n							\n		\n		\n		\n		\n		\n										\n			\n			\n		\n		Your local taco and margarita purveyor. We invite you to relax\, share food\, share drinks\, share time.\n	\n\n		\n				\n						Address:\n			\n		\n			\n						2103 S Promenade Blvd\, Rogers\, AR\, USA\, Rogers\, Arkansas 72758											\n		\n\n\n		\n				\n						Phone:\n			\n		\n				\n		(479) 903-7300\n			\n\n\n		\n				\n						Website:\n			\n		\n		locallimetaco.com\n	\n\n\n		\n					Restaurants  \n					Mexican / Latin  
URL:https://radiantretreat.com/event/dinner-at-local-lime-2/
LOCATION:Local Lime\, 2103 S Promenade Blvd\, Rogers\, AR\, 72758
CATEGORIES:Bixby,Tulsa Central,Tulsa Midtown
ATTACH;FMTTYPE=image/jpeg:https://radiantretreat.com/wp-content/uploads/2023/01/LL-BarShot-Wide.jpg
END:VEVENT
BEGIN:VEVENT
DTSTART;TZID=America/Chicago:20240203T190000
DTEND;TZID=America/Chicago:20240203T203000
DTSTAMP:20260421T043311
CREATED:20240131T042928Z
LAST-MODIFIED:20240131T050259Z
UID:10000086-1706986800-1706992200@radiantretreat.com
SUMMARY:Dinner at Local Lime
DESCRIPTION:Join us for an off-the-map Fresh-Mex dinner. Local Lime serves up flavor-packed dishes inspired by Mexican street fare\, Latin American flavors with a hint of Tex-Mex flare\, and delicious handcrafted cocktails. \n				\n			\n			\n						\n				\n									\n												\n								\n																				\n										\n						\n												\n										Local Lime \n			\n		5.0\n	\n		\n		\n		\n		\n		\n		\n			\n\n																						\n								\n																						\n						\n					\n								\n								\n								\n								\n					\n						\n							\n								\n									\n								\n							\n														\n								\n									\n								\n							\n																																									\n											\n				\n							\n		\n		\n		\n		\n		\n										\n			\n			\n		\n		Your local taco and margarita purveyor. We invite you to relax\, share food\, share drinks\, share time.\n	\n\n		\n				\n						Address:\n			\n		\n			\n						2103 S Promenade Blvd\, Rogers\, AR\, USA\, Rogers\, Arkansas 72758											\n		\n\n\n		\n				\n						Phone:\n			\n		\n				\n		(479) 903-7300\n			\n\n\n		\n				\n						Website:\n			\n		\n		locallimetaco.com\n	\n\n\n		\n					Restaurants  \n					Mexican / Latin  
URL:https://radiantretreat.com/event/dinner-at-local-lime/
LOCATION:Local Lime\, 2103 S Promenade Blvd\, Rogers\, AR\, 72758
CATEGORIES:Tulsa Midtown
ATTACH;FMTTYPE=image/jpeg:https://radiantretreat.com/wp-content/uploads/2023/01/LL-BarShot-Wide.jpg
END:VEVENT
BEGIN:VEVENT
DTSTART;TZID=America/Chicago:20230205T120000
DTEND;TZID=America/Chicago:20230205T130000
DTSTAMP:20260421T043311
CREATED:20230117T031858Z
LAST-MODIFIED:20230130T045438Z
UID:10000029-1675598400-1675602000@radiantretreat.com
SUMMARY:Lunch at Local Lime
DESCRIPTION:Join us for an off-the-map Fresh-Mex dinner. Local Lime serves up flavor-packed dishes inspired by Mexican street fare\, Latin American flavors with a hint of Tex-Mex flare\, and delicious handcrafted cocktails. \n				\n			\n			\n						\n				\n									\n												\n								\n																				\n										\n						\n												\n										Local Lime \n			\n		5.0\n	\n		\n		\n		\n		\n		\n		\n			\n\n																						\n								\n																						\n						\n					\n								\n								\n								\n								\n					\n						\n							\n								\n									\n								\n							\n														\n								\n									\n								\n							\n																																									\n											\n				\n							\n		\n		\n		\n		\n		\n										\n			\n			\n		\n		Your local taco and margarita purveyor. We invite you to relax\, share food\, share drinks\, share time.\n	\n\n		\n				\n						Address:\n			\n		\n			\n						2103 S Promenade Blvd\, Rogers\, AR\, USA\, Rogers\, Arkansas 72758											\n		\n\n\n		\n				\n						Phone:\n			\n		\n				\n		(479) 903-7300\n			\n\n\n		\n				\n						Website:\n			\n		\n		locallimetaco.com\n	\n\n\n		\n					Restaurants  \n					Mexican / Latin  
URL:https://radiantretreat.com/event/lunch-local-lime/
LOCATION:Local Lime\, 2103 S Promenade Blvd\, Rogers\, AR\, 72758
CATEGORIES:Bixby,Tulsa Central
ATTACH;FMTTYPE=image/jpeg:https://radiantretreat.com/wp-content/uploads/2023/01/LL-BarShot-Wide.jpg
END:VEVENT
BEGIN:VEVENT
DTSTART;TZID=America/Chicago:20230204T180000
DTEND;TZID=America/Chicago:20230204T193000
DTSTAMP:20260421T043311
CREATED:20230129T234715Z
LAST-MODIFIED:20230130T045207Z
UID:10000037-1675533600-1675539000@radiantretreat.com
SUMMARY:Dinner at Local Lime
DESCRIPTION:Join us for an off-the-map Fresh-Mex dinner. Local Lime serves up flavor-packed dishes inspired by Mexican street fare\, Latin American flavors with a hint of Tex-Mex flare\, and delicious handcrafted cocktails. \n				\n			\n			\n						\n				\n									\n												\n								\n																				\n										\n						\n												\n										Local Lime \n			\n		5.0\n	\n		\n		\n		\n		\n		\n		\n			\n\n																						\n								\n																						\n						\n					\n								\n								\n								\n								\n					\n						\n							\n								\n									\n								\n							\n														\n								\n									\n								\n							\n																																									\n											\n				\n							\n		\n		\n		\n		\n		\n										\n			\n			\n		\n		Your local taco and margarita purveyor. We invite you to relax\, share food\, share drinks\, share time.\n	\n\n		\n				\n						Address:\n			\n		\n			\n						2103 S Promenade Blvd\, Rogers\, AR\, USA\, Rogers\, Arkansas 72758											\n		\n\n\n		\n				\n						Phone:\n			\n		\n				\n		(479) 903-7300\n			\n\n\n		\n				\n						Website:\n			\n		\n		locallimetaco.com\n	\n\n\n		\n					Restaurants  \n					Mexican / Latin  
URL:https://radiantretreat.com/event/dinner-local-lime/
LOCATION:Local Lime\, 2103 S Promenade Blvd\, Rogers\, AR\, 72758
CATEGORIES:Bartlesville,Broken Arrow Cedar Ridge,Moore,Tulsa Asbury,Tulsa Midtown
ATTACH;FMTTYPE=image/jpeg:https://radiantretreat.com/wp-content/uploads/2023/01/LL-BarShot-Wide.jpg
END:VEVENT
BEGIN:VEVENT
DTSTART;TZID=America/Chicago:20230203T180000
DTEND;TZID=America/Chicago:20230203T193000
DTSTAMP:20260421T043311
CREATED:20230130T021727Z
LAST-MODIFIED:20230130T045058Z
UID:10000051-1675447200-1675452600@radiantretreat.com
SUMMARY:Dinner at Local Lime
DESCRIPTION:Join us for an off-the-map Fresh-Mex dinner. Local Lime serves up flavor-packed dishes inspired by Mexican street fare\, Latin American flavors with a hint of Tex-Mex flare\, and delicious handcrafted cocktails. \n				\n			\n			\n						\n				\n									\n												\n								\n																				\n										\n						\n												\n										Local Lime \n			\n		5.0\n	\n		\n		\n		\n		\n		\n		\n			\n\n																						\n								\n																						\n						\n					\n								\n								\n								\n								\n					\n						\n							\n								\n									\n								\n							\n														\n								\n									\n								\n							\n																																									\n											\n				\n							\n		\n		\n		\n		\n		\n										\n			\n			\n		\n		Your local taco and margarita purveyor. We invite you to relax\, share food\, share drinks\, share time.\n	\n\n		\n				\n						Address:\n			\n		\n			\n						2103 S Promenade Blvd\, Rogers\, AR\, USA\, Rogers\, Arkansas 72758											\n		\n\n\n		\n				\n						Phone:\n			\n		\n				\n		(479) 903-7300\n			\n\n\n		\n				\n						Website:\n			\n		\n		locallimetaco.com\n	\n\n\n		\n					Restaurants  \n					Mexican / Latin  
URL:https://radiantretreat.com/event/dinner-local-lime-3/
LOCATION:Local Lime\, 2103 S Promenade Blvd\, Rogers\, AR\, 72758
CATEGORIES:Conway
ATTACH;FMTTYPE=image/jpeg:https://radiantretreat.com/wp-content/uploads/2023/01/LL-BarShot-Wide.jpg
END:VEVENT
END:VCALENDAR