BEGIN:VCALENDAR
VERSION:2.0
PRODID:-//Radiant Moms&#039; Retreat - ECPv6.15.15//NONSGML v1.0//EN
CALSCALE:GREGORIAN
METHOD:PUBLISH
X-WR-CALNAME:Radiant Moms&#039; Retreat
X-ORIGINAL-URL:https://radiantretreat.com
X-WR-CALDESC:Events for Radiant Moms&#039; Retreat
REFRESH-INTERVAL;VALUE=DURATION:PT1H
X-Robots-Tag:noindex
X-PUBLISHED-TTL:PT1H
BEGIN:VTIMEZONE
TZID:America/Chicago
BEGIN:DAYLIGHT
TZOFFSETFROM:-0600
TZOFFSETTO:-0500
TZNAME:CDT
DTSTART:20220313T080000
END:DAYLIGHT
BEGIN:STANDARD
TZOFFSETFROM:-0500
TZOFFSETTO:-0600
TZNAME:CST
DTSTART:20221106T070000
END:STANDARD
BEGIN:DAYLIGHT
TZOFFSETFROM:-0600
TZOFFSETTO:-0500
TZNAME:CDT
DTSTART:20230312T080000
END:DAYLIGHT
BEGIN:STANDARD
TZOFFSETFROM:-0500
TZOFFSETTO:-0600
TZNAME:CST
DTSTART:20231105T070000
END:STANDARD
BEGIN:DAYLIGHT
TZOFFSETFROM:-0600
TZOFFSETTO:-0500
TZNAME:CDT
DTSTART:20240310T080000
END:DAYLIGHT
BEGIN:STANDARD
TZOFFSETFROM:-0500
TZOFFSETTO:-0600
TZNAME:CST
DTSTART:20241103T070000
END:STANDARD
BEGIN:DAYLIGHT
TZOFFSETFROM:-0600
TZOFFSETTO:-0500
TZNAME:CDT
DTSTART:20250309T080000
END:DAYLIGHT
BEGIN:STANDARD
TZOFFSETFROM:-0500
TZOFFSETTO:-0600
TZNAME:CST
DTSTART:20251102T070000
END:STANDARD
BEGIN:DAYLIGHT
TZOFFSETFROM:-0600
TZOFFSETTO:-0500
TZNAME:CDT
DTSTART:20260308T080000
END:DAYLIGHT
BEGIN:STANDARD
TZOFFSETFROM:-0500
TZOFFSETTO:-0600
TZNAME:CST
DTSTART:20261101T070000
END:STANDARD
END:VTIMEZONE
BEGIN:VEVENT
DTSTART;TZID=America/Chicago:20250131T140000
DTEND;TZID=America/Chicago:20250131T170000
DTSTAMP:20260421T075424
CREATED:20250128T231240Z
LAST-MODIFIED:20250129T062531Z
UID:10000100-1738332000-1738342800@radiantretreat.com
SUMMARY:Shopping in Downtown Rogers
DESCRIPTION:Meet up in Downtown Rogers for the best selection of local shops and boutiques. Grab a coffee and sample the offerings from apparel and accessories for women and children\, as well as home decor\, gifts\, used books\, specialty foods\, and much more! \nIn and Near Downtown Rogers:\n				\n			\n			\n						\n				\n									\n								Sorry\, no listings were found.
URL:https://radiantretreat.com/event/shopping-in-downtown-rogers/
LOCATION:Downtown Rogers\, 100 1st Street\, AR\, 72756\, United States
CATEGORIES:Bixby,Broken Arrow,Fayetteville,Tulsa Asbury,Tulsa Central,Tulsa Midtown
ATTACH;FMTTYPE=image/jpeg:https://radiantretreat.com/wp-content/uploads/2023/02/rogers.jpg
END:VEVENT
BEGIN:VEVENT
DTSTART;TZID=America/Chicago:20250131T130000
DTEND;TZID=America/Chicago:20250131T140000
DTSTAMP:20260421T075424
CREATED:20250128T224531Z
LAST-MODIFIED:20250128T224654Z
UID:10000097-1738328400-1738332000@radiantretreat.com
SUMMARY:Lunch at El Jicaro
DESCRIPTION:Join us for an authentic Salvadoran lunch at El Jicaro. Choose from an extensive menu of Latin family recipes\, such as homemade pupusas\, tamales\, and much more. \n				\n			\n			\n						\n				\n									\n								Sorry\, no listings were found.
URL:https://radiantretreat.com/event/lunch-at-el-jicaro/
LOCATION:El Jicaro Salvadoran Restaurant\, 1207 West Walnut\, Rogers\, 72756\, United States
CATEGORIES:Tulsa Midtown
ATTACH;FMTTYPE=image/jpeg:https://radiantretreat.com/wp-content/uploads/2025/01/El-JIcaro.jpg
END:VEVENT
BEGIN:VEVENT
DTSTART;TZID=America/Chicago:20240204T140000
DTEND;TZID=America/Chicago:20240204T170000
DTSTAMP:20260421T075424
CREATED:20240131T054620Z
LAST-MODIFIED:20250128T224334Z
UID:10000092-1707055200-1707066000@radiantretreat.com
SUMMARY:Crystal Bridges Museum of Art
DESCRIPTION:Crystal Bridges Museum of American Art’s permanent collection spans five centuries of American art by Rockwell\, O’Keeffe\, Lichtenstein\, and others. You can also visit Frank Lloyd Wright’s Bachmann-Wilson House\, Buckminster Fuller’s Fly’s Eye Dome\, or tour the extensive Museum grounds. \n* Admission to the permanent collection is FREE. Traveling exhibitions may require an admission fee. \n				\n			\n			\n						\n				\n									\n								Sorry\, no listings were found.
URL:https://radiantretreat.com/event/crystal-bridges-sunday/
LOCATION:Crystal Bridges Museum of American Art\, 600 Museum Way\, Bentonville\, AR\, 72712\, United States
CATEGORIES:Bixby,Conway,Fayetteville,Owasso,Sand Springs,Tulsa Asbury,Tulsa Central,Tulsa Midtown
ATTACH;FMTTYPE=image/jpeg:https://radiantretreat.com/wp-content/uploads/2022/11/Crystal-Bridges-Museum-10.jpg
END:VEVENT
BEGIN:VEVENT
DTSTART;TZID=America/Chicago:20240204T130000
DTEND;TZID=America/Chicago:20240204T140000
DTSTAMP:20260421T075424
CREATED:20240131T044702Z
LAST-MODIFIED:20240131T050959Z
UID:10000089-1707051600-1707055200@radiantretreat.com
SUMMARY:Lunch at The Buttered Biscuit at I Street
DESCRIPTION:Join us for a tasty lunch at The Buttered Biscuit (I Street location). Choose from breakfast favorites like made-from-scratch waffles\, cinnamon rolls\, omelets\, or dive into some heartier fare\, like stellar biscuit sandwiches. Healthy choices and allergy-friendly options (vegetarian\, dairy-free or gluten-free) options are available. \n				\n			\n			\n						\n				\n									\n								Sorry\, no listings were found.
URL:https://radiantretreat.com/event/lunch-at-the-buttered-biscuit/
LOCATION:The Buttered Biscuit – I Street\, 1001 SW Regional Airport Blvd #17\, Bentonville\, AR\, 72712\, United States
CATEGORIES:Bixby,Tulsa Midtown
ATTACH;FMTTYPE=image/jpeg:https://radiantretreat.com/wp-content/uploads/2023/01/butteredbiscuit2.jpg
END:VEVENT
BEGIN:VEVENT
DTSTART;TZID=America/Chicago:20240204T120000
DTEND;TZID=America/Chicago:20240204T120000
DTSTAMP:20260421T075424
CREATED:20231008T212715Z
LAST-MODIFIED:20240131T210622Z
UID:10000056-1707048000-1707048000@radiantretreat.com
SUMMARY:Hotel Check-out
DESCRIPTION:  \n\n\n\n\n\n\n\n\n\n\n\n\n\n 
URL:https://radiantretreat.com/event/hotel-check-out-2/
LOCATION:Homewood Suites Bentonville-Rogers\, 4302 W Walnut St\, Rogers\, AR\, 72756\, United States
CATEGORIES:Bixby,Conway,Fayetteville,Owasso,Sand Springs,Tulsa Asbury,Tulsa Central,Tulsa Midtown
ATTACH;FMTTYPE=image/jpeg:https://radiantretreat.com/wp-content/uploads/2023/01/homewood-2.jpg
END:VEVENT
BEGIN:VEVENT
DTSTART;TZID=America/Chicago:20240204T110000
DTEND;TZID=America/Chicago:20240204T120000
DTSTAMP:20260421T075424
CREATED:20231214T004440Z
LAST-MODIFIED:20240131T041957Z
UID:10000059-1707044400-1707048000@radiantretreat.com
SUMMARY:Morning Watch at Cooper Chapel
DESCRIPTION:Make time for morning watch at the Mildred B. Cooper Memorial Chapel. Designed architect by E. Fay Jones\, and inspired by the pointed arches of Gothic cathedrals\, the chapel is a sanctuary of serene contemplation. Bring your Bible\, your journal\, and your uninterrupted thoughts for a quiet time of prayer and renewal. \nNOTE: The Chapel may be closed to visitors if it has been rented for a private event. Although this is unlikely on a Sunday morning\, it is possible.\n				\n			\n			\n						\n				\n									\n								Sorry\, no listings were found.\n				\n							\n					\n		\n\n\n\n\n\n\n\n\n\n\n\n\n\n 
URL:https://radiantretreat.com/event/morning-watch-at-cooper-chapel/
LOCATION:Mildred B. Cooper Chapel\, 504 Memorial Drive\, Bella Vista\, AR\, 72714\, United States
CATEGORIES:Bixby,Conway,Fayetteville,Owasso,Sample,Sand Springs,Tulsa Asbury,Tulsa Central,Tulsa Midtown
ATTACH;FMTTYPE=image/jpeg:https://radiantretreat.com/wp-content/uploads/2022/02/karsten-winegeart-ZV6VAKLsrpw-unsplash-CMP.jpg
END:VEVENT
BEGIN:VEVENT
DTSTART;TZID=America/Chicago:20240204T070000
DTEND;TZID=America/Chicago:20240204T100000
DTSTAMP:20260421T075424
CREATED:20240129T191845Z
LAST-MODIFIED:20240131T210331Z
UID:10000076-1707030000-1707040800@radiantretreat.com
SUMMARY:Breakfast (for hotel guests)
DESCRIPTION:  \n\n\n\n\n\n\n\n\n\n\n\n\n\n 
URL:https://radiantretreat.com/event/breakfast-for-hotel-guests-3/
LOCATION:Homewood Suites Bentonville-Rogers\, 4302 W Walnut St\, Rogers\, AR\, 72756\, United States
CATEGORIES:Bixby,Conway,Fayetteville,Owasso,Sand Springs,Tulsa Asbury,Tulsa Central,Tulsa Midtown
ATTACH;FMTTYPE=image/jpeg:https://radiantretreat.com/wp-content/uploads/2023/01/homewood-2.jpg
END:VEVENT
BEGIN:VEVENT
DTSTART;TZID=America/Chicago:20240203T210000
DTEND;TZID=America/Chicago:20240203T220000
DTSTAMP:20260421T075424
CREATED:20231214T005921Z
LAST-MODIFIED:20240131T033652Z
UID:10000067-1706994000-1706997600@radiantretreat.com
SUMMARY:Makers Night in the Hospitality Suite
DESCRIPTION:Grab your knitting — or crocheting\, sewing\, or any craft you like — and join us in the Hospitality Suite for an evening of cozy crafting\, and conversing together. Check your Radiant tote for some makeable fun\, or purchase an embroidery kit (supplied are limited)\, if your group wants to try something together. Come and go as you please! \n\n\n\n\n\n\n\n\n\n\n\n\n\n 
URL:https://radiantretreat.com/event/makers-night-saturday/
LOCATION:Homewood Suites Bentonville-Rogers\, 4302 W Walnut St\, Rogers\, AR\, 72756\, United States
CATEGORIES:Bixby,Conway,Fayetteville,Owasso,Sample,Sand Springs,Tulsa Asbury,Tulsa Central,Tulsa Midtown
END:VEVENT
BEGIN:VEVENT
DTSTART;TZID=America/Chicago:20240203T190000
DTEND;TZID=America/Chicago:20240203T203000
DTSTAMP:20260421T075424
CREATED:20240131T042928Z
LAST-MODIFIED:20240131T050259Z
UID:10000086-1706986800-1706992200@radiantretreat.com
SUMMARY:Dinner at Local Lime
DESCRIPTION:Join us for an off-the-map Fresh-Mex dinner. Local Lime serves up flavor-packed dishes inspired by Mexican street fare\, Latin American flavors with a hint of Tex-Mex flare\, and delicious handcrafted cocktails. \n				\n			\n			\n						\n				\n									\n								Sorry\, no listings were found.
URL:https://radiantretreat.com/event/dinner-at-local-lime/
LOCATION:Local Lime\, 2103 S Promenade Blvd\, Rogers\, AR\, 72758
CATEGORIES:Tulsa Midtown
ATTACH;FMTTYPE=image/jpeg:https://radiantretreat.com/wp-content/uploads/2023/01/LL-BarShot-Wide.jpg
END:VEVENT
BEGIN:VEVENT
DTSTART;TZID=America/Chicago:20240203T150000
DTEND;TZID=America/Chicago:20240203T150000
DTSTAMP:20260421T075424
CREATED:20231008T212853Z
LAST-MODIFIED:20240131T210600Z
UID:10000057-1706972400-1706972400@radiantretreat.com
SUMMARY:Hotel Check-in
DESCRIPTION:  \n\n\n\n\n\n\n\n\n\n\n\n\n\n 
URL:https://radiantretreat.com/event/hotel-check-in-4/
LOCATION:Homewood Suites Bentonville-Rogers\, 4302 W Walnut St\, Rogers\, AR\, 72756\, United States
CATEGORIES:Bixby,Conway,Fayetteville,Owasso,Sand Springs,Tulsa Asbury,Tulsa Central,Tulsa Midtown
ATTACH;FMTTYPE=image/jpeg:https://radiantretreat.com/wp-content/uploads/2023/01/homewood-2.jpg
END:VEVENT
BEGIN:VEVENT
DTSTART;TZID=America/Chicago:20240203T133000
DTEND;TZID=America/Chicago:20240203T143000
DTSTAMP:20260421T075424
CREATED:20240131T042226Z
LAST-MODIFIED:20240131T050411Z
UID:10000083-1706967000-1706970600@radiantretreat.com
SUMMARY:Lunch at Pressroom
DESCRIPTION:Let’s do lunch (late)! Join us just off the Bentonville Square at this hip coffeehouse and cocktail bar serving seasonal American bistro fare made with local ingredients. We’ll enjoy our afternoon repast — with or without mimosas\, as it suits you. \n				\n			\n			\n						\n				\n									\n								Sorry\, no listings were found.
URL:https://radiantretreat.com/event/lunch-at-pressroom/
LOCATION:Pressroom\, 100 NW 2nd St #100\, Bentonville\, AR\, 72712
CATEGORIES:Conway,Fayetteville,Owasso,Sand Springs,Tulsa Asbury,Tulsa Midtown
ATTACH;FMTTYPE=image/jpeg:https://radiantretreat.com/wp-content/uploads/2022/11/Pressroom-DtHr0hsRSBOE3DbuWHdL_Sarah-Hegi-CHROMA-170810-84671-CMP-xsmall.jpeg
END:VEVENT
BEGIN:VEVENT
DTSTART;TZID=America/Chicago:20240203T100000
DTEND;TZID=America/Chicago:20240203T133000
DTSTAMP:20260421T075424
CREATED:20240131T052223Z
LAST-MODIFIED:20240131T054701Z
UID:10000091-1706954400-1706967000@radiantretreat.com
SUMMARY:Choose Your Adventure: Bentonville
DESCRIPTION:Hit the highlights of Historic Bentonville with the adventure of your choice! Whether your pleasure is shopping\, touring a world-class museum\, or enjoying the great outdoors\, find your next adventure below. \nAirship Coffee at Coler Mountain Bike Preserve\n\nEnjoy your brew in the great outdoors by taking a hike to Airship Coffee at Coler Mountain. The open-air roastery offered a variety of coffees and other drinks\, as well as baked goods\, tacos\, nachos\, and other snacks. Park at Coler Mountain Bike Preserve South Gateway (NW 3rd Street\, Bentonville) or Coler North Trailhead Parking Lot (Peach Orchard Rd\, Bentonville). The walk to the café in the center of the park is just under one mile.  (You’ll find restrooms available\, but no wifi.) \n				\n			\n			\n						\n				\n									\n								Sorry\, no listings were found.\n				\n							\n					\n		\nCrystal Bridges Museum of American Art\nCrystal Bridges’s permanent collection spans five centuries of American art by Rockwell\, O’Keeffe\, Lichtenstein\, and others. You can also visit Frank Lloyd Wright’s Bachmann-Wilson House\, Buckminster Fuller’s Fly’s Eye Dome\, or tour the extensive Museum grounds. (Admission to the permanent collection is FREE. Traveling exhibitions may require an admission fee.) \n				\n			\n			\n						\n				\n									\n								Sorry\, no listings were found.\n				\n							\n					\n		\nShopping on the Square\n\nMeet up at the City Square for Bentonville’s best selection of unique shops and trendy boutiques. Grab a coffee and sample the offerings from apparel and accessories for women and children\, as well as home decor\, gifts\, used books\, specialty foods\, and much more! \n				\n			\n			\n						\n				\n									\n								Sorry\, no listings were found.\n				\n							\n					\n		\n  \n 
URL:https://radiantretreat.com/event/cya-bentonville/
LOCATION:Downtown Bentonville\, Bentonville\, 72712\, United States
CATEGORIES:Bixby,Tulsa Central,Tulsa Midtown
ATTACH;FMTTYPE=image/jpeg:https://radiantretreat.com/wp-content/uploads/2023/01/bentonville-square.jpg
END:VEVENT
BEGIN:VEVENT
DTSTART;TZID=America/Chicago:20240203T070000
DTEND;TZID=America/Chicago:20240203T100000
DTSTAMP:20260421T075424
CREATED:20240129T191819Z
LAST-MODIFIED:20240131T210338Z
UID:10000075-1706943600-1706954400@radiantretreat.com
SUMMARY:Breakfast (for hotel guests)
DESCRIPTION:  \n\n\n\n\n\n\n\n\n\n\n\n\n\n 
URL:https://radiantretreat.com/event/breakfast-for-hotel-guests-2/
LOCATION:Homewood Suites Bentonville-Rogers\, 4302 W Walnut St\, Rogers\, AR\, 72756\, United States
CATEGORIES:Bixby,Conway,Fayetteville,Owasso,Sand Springs,Tulsa Asbury,Tulsa Central,Tulsa Midtown
ATTACH;FMTTYPE=image/jpeg:https://radiantretreat.com/wp-content/uploads/2023/01/homewood-2.jpg
END:VEVENT
BEGIN:VEVENT
DTSTART;TZID=America/Chicago:20240202T210000
DTEND;TZID=America/Chicago:20240202T230000
DTSTAMP:20260421T075424
CREATED:20231214T004845Z
LAST-MODIFIED:20240131T033210Z
UID:10000060-1706907600-1706914800@radiantretreat.com
SUMMARY:Game Night in the Hospitality Suite
DESCRIPTION:Jump into your jammies (optional) and grab your favorite board game! We’re going to throw down — restfully\, of course — with a Game Night and good friends. Bring some snacks or a beverage to share and join us in the Hospitality Suite for Bunco\, card games\, board games\, good conversations\, and fun. Come and go as you please — whether you’re a night owl or an early bird. \n\n\n\n\n\n\n\n\n\n\n\n\n\n 
URL:https://radiantretreat.com/event/game-night-friday/
LOCATION:Homewood Suites Bentonville-Rogers\, 4302 W Walnut St\, Rogers\, AR\, 72756\, United States
CATEGORIES:Bixby,Conway,Fayetteville,Owasso,Sample,Sand Springs,Tulsa Asbury,Tulsa Central,Tulsa Midtown
END:VEVENT
BEGIN:VEVENT
DTSTART;TZID=America/Chicago:20240202T203000
DTEND;TZID=America/Chicago:20240202T210000
DTSTAMP:20260421T075424
CREATED:20240131T041424Z
LAST-MODIFIED:20240131T041424Z
UID:10000082-1706905800-1706907600@radiantretreat.com
SUMMARY:Dessert at Markham and Fitz
DESCRIPTION:Celebrate a sweet end to your evening with a stop at Markham & Fitz Chocolate Makers\, home of artisan\, bean-to-bar chocolate and treats made from single-origin cacao. Choose from chocolate bars\, candies\, cookies\, pastries\, or even chocolate beverages — adult or otherwise. \n\n\n\n\n\n\n\n\n\n\n\n\n\n				\n			\n			\n						\n				\n									\n								Sorry\, no listings were found.
URL:https://radiantretreat.com/event/dessert-at-markham-and-fitz-friday/
LOCATION:Markham & Fitz\, 801 SE 8th St\, Suite 45\, Bentonville\, Arkansas\, 72712
CATEGORIES:Bixby,Sample,Tulsa Midtown
ATTACH;FMTTYPE=image/jpeg:https://radiantretreat.com/wp-content/uploads/2022/03/will-echols-P_l1bJQpQF0-unsplash.jpg
END:VEVENT
BEGIN:VEVENT
DTSTART;TZID=America/Chicago:20240202T190000
DTEND;TZID=America/Chicago:20240202T203000
DTSTAMP:20260421T075424
CREATED:20231214T010023Z
LAST-MODIFIED:20240131T035358Z
UID:10000068-1706900400-1706905800@radiantretreat.com
SUMMARY:Dinner at Tusk and Trotter
DESCRIPTION:“Meat” up at Tusk & Trotter for locally-sourced\, seasonal High South cuisine\, and craft beers. “This carnivore’s cavern serves up some amazing tail-to-snout fare\, including a sinful chicken and waffles…” — Lonely Planet \n				\n			\n			\n						\n				\n									\n								Sorry\, no listings were found.
URL:https://radiantretreat.com/event/dinner-at-tusk-and-trotter/
LOCATION:Tusk & Trotter American Brasserie\, 110 SE A St\, Bentonville\, AR\, 72712\, United States
CATEGORIES:Sample,Tulsa Midtown
ATTACH;FMTTYPE=image/jpeg:https://radiantretreat.com/wp-content/uploads/2023/01/tusk.jpg
END:VEVENT
BEGIN:VEVENT
DTSTART;TZID=America/Chicago:20240202T150000
DTEND;TZID=America/Chicago:20240202T150000
DTSTAMP:20260421T075424
CREATED:20231004T043434Z
LAST-MODIFIED:20240131T211133Z
UID:10000055-1706886000-1706886000@radiantretreat.com
SUMMARY:Hotel Check-in
DESCRIPTION:  \n\n\n\n\n\n\n\n\n\n\n\n\n\n 
URL:https://radiantretreat.com/event/hotel-check-in-020224/
LOCATION:Homewood Suites Bentonville-Rogers\, 4302 W Walnut St\, Rogers\, AR\, 72756\, United States
CATEGORIES:Bixby,Conway,Fayetteville,Owasso,Sand Springs,Tulsa Asbury,Tulsa Central,Tulsa Midtown
ATTACH;FMTTYPE=image/jpeg:https://radiantretreat.com/wp-content/uploads/2023/01/homewood-2.jpg
END:VEVENT
BEGIN:VEVENT
DTSTART;TZID=America/Chicago:20240202T133000
DTEND;TZID=America/Chicago:20240202T143000
DTSTAMP:20260421T075424
CREATED:20231214T005333Z
LAST-MODIFIED:20240131T193628Z
UID:10000064-1706880600-1706884200@radiantretreat.com
SUMMARY:Lunch at Crepes Paulette
DESCRIPTION:Pick your poison Crepes Paulette with a dizzying variety of savory and sweet crepes\, loaded with tasty fillings.  Fusing classic French technique with worldwide cuisines satisfies a variety of palettes\, from a classic Nutella banana sweet crêpe to a gluten free Thai savory crepe\, each handheld creation is made fresh to order with quality ingredients\, proprietary recipes and attention to detail. \n				\n			\n			\n						\n				\n									\n								Sorry\, no listings were found.
URL:https://radiantretreat.com/event/lunch-at-crepes-paulette/
LOCATION:Crepes Paulette\, 100 SW 8th St #4\, Bentonville\, AR\, 72712\, United States
CATEGORIES:Fayetteville,Owasso,Sand Springs,Tulsa Midtown
ATTACH;FMTTYPE=image/jpeg:https://radiantretreat.com/wp-content/uploads/2023/01/crepespaulette.jpg
END:VEVENT
BEGIN:VEVENT
DTSTART;TZID=America/Chicago:20240202T110000
DTEND;TZID=America/Chicago:20240202T130000
DTSTAMP:20260421T075424
CREATED:20240131T055828Z
LAST-MODIFIED:20240131T185614Z
UID:10000090-1706871600-1706878800@radiantretreat.com
SUMMARY:Shopping at Pinnacle Hills Promenade
DESCRIPTION:Explore this stylish shopping village spread over 152 landscaped acres. Anchor retailers include Cabela’s\, Dillard’s\, and Target\, along with Williams-Sonoma\, Lululemon\, Pottery Barn\, Athleta\, Sephora\, Soma\, and more.\n \n				\n			\n			\n						\n				\n									\n								Sorry\, no listings were found.
URL:https://radiantretreat.com/event/shopping-pinnacle-hills/
LOCATION:Pinnacle Hills Promenade\, 2203 S Promenade Blvd\, Rogers\, AR\, 72758\, United States
CATEGORIES:Bixby,Fayetteville,Owasso,Sand Springs,Tulsa Midtown
ATTACH;FMTTYPE=image/jpeg:https://radiantretreat.com/wp-content/uploads/2023/01/pinnacle-hills-promenade.jpg
END:VEVENT
BEGIN:VEVENT
DTSTART;TZID=America/Chicago:20240202T060000
DTEND;TZID=America/Chicago:20240202T090000
DTSTAMP:20260421T075424
CREATED:20240129T191707Z
LAST-MODIFIED:20240131T210426Z
UID:10000074-1706853600-1706864400@radiantretreat.com
SUMMARY:Breakfast (for hotel guests)
DESCRIPTION:  \n\n\n\n\n\n\n\n\n\n\n\n\n\n 
URL:https://radiantretreat.com/event/breakfast-for-hotel-guests/
LOCATION:Homewood Suites Bentonville-Rogers\, 4302 W Walnut St\, Rogers\, AR\, 72756\, United States
CATEGORIES:Bixby,Fayetteville,Owasso,Sand Springs,Tulsa Midtown
ATTACH;FMTTYPE=image/jpeg:https://radiantretreat.com/wp-content/uploads/2023/01/homewood-2.jpg
END:VEVENT
BEGIN:VEVENT
DTSTART;TZID=America/Chicago:20240201T210000
DTEND;TZID=America/Chicago:20240201T213000
DTSTAMP:20260421T075424
CREATED:20240131T062116Z
LAST-MODIFIED:20240131T213543Z
UID:10000095-1706821200-1706823000@radiantretreat.com
SUMMARY:Dessert at Superfine Sweet Shoppe
DESCRIPTION:Put a sweet end to the evening with a visit to Superfine Sweet Shoppe just around the corner. Choose from hand-scooped\, premium ice cream in twelve flavors\, cookies\, and specialty desserts to make your mouth take notice. \n\n\n\n\n\n\n\n\n\n\n\n\n\n				\n			\n			\n						\n				\n									\n								Sorry\, no listings were found.
URL:https://radiantretreat.com/event/dessert-at-superfine-thursday/
LOCATION:Superfine Sweet Shoppe\, 215 S Main St #3\, Bentonville\, AR\, 72712\, United States
CATEGORIES:Bixby,Fayetteville,Owasso,Sand Springs,Tulsa Midtown
ATTACH;FMTTYPE=image/jpeg:https://radiantretreat.com/wp-content/uploads/2024/01/superfine-bentonville.jpg
END:VEVENT
BEGIN:VEVENT
DTSTART;TZID=America/Chicago:20240201T203000
DTEND;TZID=America/Chicago:20240201T223000
DTSTAMP:20260421T075424
CREATED:20231214T230452Z
LAST-MODIFIED:20240131T185448Z
UID:10000073-1706819400-1706826600@radiantretreat.com
SUMMARY:Movie Night in the Hospitality Suite
DESCRIPTION:Jump into your jammies (optional) and grab your favorite snacks! We’re going to while away the evening with a good movie and good fellowship. Join us for the film and fun\, or escape to your room and catch an early bedtime — the choice is up to you! \n\n\n\n\n\n\n\n\n\n\n\n\n\n 
URL:https://radiantretreat.com/event/movie-night-in-the-hospitality-suite/
LOCATION:AR
CATEGORIES:Bixby,Fayetteville,Owasso,Sample,Sand Springs,Tulsa Midtown
ATTACH;FMTTYPE=image/jpeg:https://radiantretreat.com/wp-content/uploads/2023/01/movie-night.jpg
END:VEVENT
BEGIN:VEVENT
DTSTART;TZID=America/Chicago:20240201T193000
DTEND;TZID=America/Chicago:20240201T210000
DTSTAMP:20260421T075424
CREATED:20240131T033840Z
LAST-MODIFIED:20240131T185504Z
UID:10000077-1706815800-1706821200@radiantretreat.com
SUMMARY:Dinner at Tavola Trattoria
DESCRIPTION:Enjoy dinner at this casual bistro offering family-style Italian dining with a long wine list in a trendy\, modern space. Food is from the heart\, so whether you are Italian or just have the passion for its cuisine\, discover our soul-satisfying riffs on Italian and Mediterranean cooking at Tavola. \n				\n			\n			\n						\n				\n									\n								Sorry\, no listings were found.
URL:https://radiantretreat.com/event/dinner-at-tavola-trattoria/
LOCATION:Tavola Trattoria\, 108 SE A St\, Bentonville\, AR\, 72712
CATEGORIES:Bixby,Fayetteville,Owasso,Sand Springs,Tulsa Midtown
ATTACH;FMTTYPE=image/jpeg:https://radiantretreat.com/wp-content/uploads/2023/01/tavola.jpg
END:VEVENT
BEGIN:VEVENT
DTSTART;TZID=America/Chicago:20240201T150000
DTEND;TZID=America/Chicago:20240201T150000
DTSTAMP:20260421T075424
CREATED:20231004T043322Z
LAST-MODIFIED:20240131T210645Z
UID:10000054-1706799600-1706799600@radiantretreat.com
SUMMARY:Hotel Check-in
DESCRIPTION:  \n\n\n\n\n\n\n\n\n\n\n\n\n\n 
URL:https://radiantretreat.com/event/hotel-check-in-020124/
LOCATION:Homewood Suites Bentonville-Rogers\, 4302 W Walnut St\, Rogers\, AR\, 72756\, United States
CATEGORIES:Bixby,Conway,Fayetteville,Owasso,Sand Springs,Tulsa Asbury,Tulsa Central,Tulsa Midtown
ATTACH;FMTTYPE=image/jpeg:https://radiantretreat.com/wp-content/uploads/2023/01/homewood-2.jpg
END:VEVENT
BEGIN:VEVENT
DTSTART;TZID=America/Chicago:20230205T120000
DTEND;TZID=America/Chicago:20230205T130000
DTSTAMP:20260421T075424
CREATED:20230130T012318Z
LAST-MODIFIED:20230130T064914Z
UID:10000038-1675598400-1675602000@radiantretreat.com
SUMMARY:Lunch at The Buttered Biscuit
DESCRIPTION:Join us for a tasty lunch at The Buttered Biscuit (Moberly Lane location). Choose from breakfast favorites like made-from-scratch waffles\, cinnamon rolls\, omelets\, or dive into some heartier fare\, like stellar biscuit sandwiches. Healthy choices and allergy-friendly options (vegetarian\, dairy-free or gluten-free) options are available. \n				\n			\n			\n						\n				\n									\n								Sorry\, no listings were found.
URL:https://radiantretreat.com/event/lunch-buttered-biscuit/
LOCATION:The Buttered Biscuit\, 1403 SE Moberly Ln\, Bentonville\, 72712\, United States
CATEGORIES:Conway,Tulsa Midtown
ATTACH;FMTTYPE=image/jpeg:https://radiantretreat.com/wp-content/uploads/2023/01/butteredbiscuit2.jpg
END:VEVENT
BEGIN:VEVENT
DTSTART;TZID=America/Chicago:20230205T120000
DTEND;TZID=America/Chicago:20230205T120000
DTSTAMP:20260421T075424
CREATED:20230116T054729Z
LAST-MODIFIED:20230129T222252Z
UID:10000020-1675598400-1675598400@radiantretreat.com
SUMMARY:Hotel Check-out
DESCRIPTION:  \n\n\n\n\n\n\n\n\n\n\n\n\n\n 
URL:https://radiantretreat.com/event/hotel-check-out/
LOCATION:Homewood Suites Bentonville-Rogers\, 4302 W Walnut St\, Rogers\, AR\, 72756\, United States
CATEGORIES:Bartlesville,Bixby,Broken Arrow Cedar Ridge,Conway,Moore,Owasso,Tulsa Asbury,Tulsa Central,Tulsa Midtown
ATTACH;FMTTYPE=image/jpeg:https://radiantretreat.com/wp-content/uploads/2023/01/homewood-2.jpg
END:VEVENT
BEGIN:VEVENT
DTSTART;TZID=America/Chicago:20230205T110000
DTEND;TZID=America/Chicago:20230205T120000
DTSTAMP:20260421T075424
CREATED:20230116T060519Z
LAST-MODIFIED:20230130T045544Z
UID:10000027-1675594800-1675598400@radiantretreat.com
SUMMARY:Morning Watch at Cooper Chapel
DESCRIPTION:Make time for morning watch at the Mildred B. Cooper Memorial Chapel. Designed architect by E. Fay Jones\, and inspired by the pointed arches of Gothic cathedrals\, the chapel is a sanctuary of serene contemplation. Bring your Bible\, your journal\, and your uninterrupted thoughts for a quiet time of prayer and renewal. \n				\n			\n			\n						\n				\n									\n								Sorry\, no listings were found.\n				\n							\n					\n		\n\n\n\n\n\n\n\n\n\n\n\n\n\n 
URL:https://radiantretreat.com/event/morning-watch-cooper-chapel/
LOCATION:Mildred B. Cooper Chapel\, 504 Memorial Drive\, Bella Vista\, AR\, 72714\, United States
CATEGORIES:Bartlesville,Bixby,Broken Arrow Cedar Ridge,Conway,Greenbrier,Moore,Owasso,Tulsa Asbury,Tulsa Central,Tulsa Midtown
ATTACH;FMTTYPE=image/jpeg:https://radiantretreat.com/wp-content/uploads/2022/02/karsten-winegeart-ZV6VAKLsrpw-unsplash-CMP.jpg
END:VEVENT
BEGIN:VEVENT
DTSTART;TZID=America/Chicago:20230205T070000
DTEND;TZID=America/Chicago:20230205T100000
DTSTAMP:20260421T075424
CREATED:20230116T055530Z
LAST-MODIFIED:20230117T161424Z
UID:10000023-1675580400-1675591200@radiantretreat.com
SUMMARY:Breakfast (for hotel guests)
DESCRIPTION:  \n\n\n\n\n\n\n\n\n\n\n\n\n\n 
URL:https://radiantretreat.com/event/complimentary-breakfast-3/
LOCATION:Homewood Suites Bentonville-Rogers\, 4302 W Walnut St\, Rogers\, AR\, 72756\, United States
CATEGORIES:Bartlesville,Bixby,Broken Arrow Cedar Ridge,Conway,Moore,Owasso,Tulsa Asbury,Tulsa Central,Tulsa Midtown
ATTACH;FMTTYPE=image/jpeg:https://radiantretreat.com/wp-content/uploads/2023/01/homewood-2.jpg
END:VEVENT
BEGIN:VEVENT
DTSTART;TZID=America/Chicago:20230204T200000
DTEND;TZID=America/Chicago:20230204T220000
DTSTAMP:20260421T075424
CREATED:20230116T055757Z
LAST-MODIFIED:20230116T060548Z
UID:10000024-1675540800-1675548000@radiantretreat.com
SUMMARY:Game Night in the Hospitality Suite
DESCRIPTION:Jump into your jammies (optional) and grab your favorite board game! We’re going to throw down — restfully\, of course — with a Game Night and good friends. Bring some snacks or a beverage to share and join us in the Hospitality Suite for Bunco\, card games\, board games\, good conversations\, and fun.
URL:https://radiantretreat.com/event/game-night/
LOCATION:Homewood Suites Bentonville-Rogers\, 4302 W Walnut St\, Rogers\, AR\, 72756\, United States
CATEGORIES:Bartlesville,Bixby,Broken Arrow Cedar Ridge,Conway,Greenbrier,Moore,Owasso,Tulsa Asbury,Tulsa Central,Tulsa Midtown
END:VEVENT
BEGIN:VEVENT
DTSTART;TZID=America/Chicago:20230204T180000
DTEND;TZID=America/Chicago:20230204T193000
DTSTAMP:20260421T075424
CREATED:20230129T234715Z
LAST-MODIFIED:20230130T045207Z
UID:10000037-1675533600-1675539000@radiantretreat.com
SUMMARY:Dinner at Local Lime
DESCRIPTION:Join us for an off-the-map Fresh-Mex dinner. Local Lime serves up flavor-packed dishes inspired by Mexican street fare\, Latin American flavors with a hint of Tex-Mex flare\, and delicious handcrafted cocktails. \n				\n			\n			\n						\n				\n									\n								Sorry\, no listings were found.
URL:https://radiantretreat.com/event/dinner-local-lime/
LOCATION:Local Lime\, 2103 S Promenade Blvd\, Rogers\, AR\, 72758
CATEGORIES:Bartlesville,Broken Arrow Cedar Ridge,Moore,Tulsa Asbury,Tulsa Midtown
ATTACH;FMTTYPE=image/jpeg:https://radiantretreat.com/wp-content/uploads/2023/01/LL-BarShot-Wide.jpg
END:VEVENT
END:VCALENDAR