BEGIN:VCALENDAR
VERSION:2.0
PRODID:-//Radiant Moms&#039; Retreat - ECPv6.15.15//NONSGML v1.0//EN
CALSCALE:GREGORIAN
METHOD:PUBLISH
X-WR-CALNAME:Radiant Moms&#039; Retreat
X-ORIGINAL-URL:https://radiantretreat.com
X-WR-CALDESC:Events for Radiant Moms&#039; Retreat
REFRESH-INTERVAL;VALUE=DURATION:PT1H
X-Robots-Tag:noindex
X-PUBLISHED-TTL:PT1H
BEGIN:VTIMEZONE
TZID:America/Chicago
BEGIN:DAYLIGHT
TZOFFSETFROM:-0600
TZOFFSETTO:-0500
TZNAME:CDT
DTSTART:20240310T080000
END:DAYLIGHT
BEGIN:STANDARD
TZOFFSETFROM:-0500
TZOFFSETTO:-0600
TZNAME:CST
DTSTART:20241103T070000
END:STANDARD
BEGIN:DAYLIGHT
TZOFFSETFROM:-0600
TZOFFSETTO:-0500
TZNAME:CDT
DTSTART:20250309T080000
END:DAYLIGHT
BEGIN:STANDARD
TZOFFSETFROM:-0500
TZOFFSETTO:-0600
TZNAME:CST
DTSTART:20251102T070000
END:STANDARD
BEGIN:DAYLIGHT
TZOFFSETFROM:-0600
TZOFFSETTO:-0500
TZNAME:CDT
DTSTART:20260308T080000
END:DAYLIGHT
BEGIN:STANDARD
TZOFFSETFROM:-0500
TZOFFSETTO:-0600
TZNAME:CST
DTSTART:20261101T070000
END:STANDARD
END:VTIMEZONE
BEGIN:VEVENT
DTSTART;VALUE=DATE:20250131
DTEND;VALUE=DATE:20250203
DTSTAMP:20260422T125053
CREATED:20241226T031813Z
LAST-MODIFIED:20250116T024246Z
UID:10000096-1738281600-1738540799@radiantretreat.com
SUMMARY:Radiant Moms' Retreat 2025
DESCRIPTION:  \n\n\n\nGrab your gals for a getaway!\nRadiant Moms’ Retreat is a retreat for all mothers with children enrolled in Classical Conversations® — including Foundations\, Essentials\, or Challenge programs. Our 7th Annual Radiant Moms’ Retreat will be held January 31-February 2\, 2025\, in Northwest Arkansas. Radiant Moms’ Retreat will be devoted to rest\, renewal\, and relationships. Pick and choose meals and activities from a thoughtful\, mom-focused Itinerary to make this retreat your very own. Share a meal with other moms. Dig into God’s Word and spend some quiet time in prayer. Sleep late. Enjoy a little art and culture. Be encouraged by other women who are sharing this journey with you. Early Registration for the retreat starts at just $19! Each attendee is also responsible for her own lodging\, meals\, transportation\, and activities. Early Registration ends January 17th\, so register today! \n\n\n\n\n\n\n\n\n\n\n \n\n\n\n 
URL:https://radiantretreat.com/event/radiant-moms-retreat-2025/
LOCATION:Northwest Arkansas
END:VEVENT
BEGIN:VEVENT
DTSTART;TZID=America/Chicago:20250202T070000
DTEND;TZID=America/Chicago:20250202T100000
DTSTAMP:20260422T125053
CREATED:20250128T233616Z
LAST-MODIFIED:20250129T062309Z
UID:10000102-1738479600-1738490400@radiantretreat.com
SUMMARY:Breakfast (for hotel guests)
DESCRIPTION:  \n\n\n\n\n\n\n\n\n\n\n\n\n\n 
URL:https://radiantretreat.com/event/breakfast-for-hotel-guests-5/
LOCATION:Hyatt Place Rogers Bentonville\, 4610 W Walnut St\, Rogers\, AR\, 72756\, United States
CATEGORIES:Bixby,Broken Arrow,Fayetteville,Tulsa Asbury,Tulsa Central,Tulsa Midtown
ATTACH;FMTTYPE=image/jpeg:https://radiantretreat.com/wp-content/uploads/2025/01/Hyatt-Place-Rogers_Bentonville-Exterior.jpg
END:VEVENT
BEGIN:VEVENT
DTSTART;TZID=America/Chicago:20250202T103000
DTEND;TZID=America/Chicago:20250202T113000
DTSTAMP:20260422T125053
CREATED:20250128T234126Z
LAST-MODIFIED:20250129T062302Z
UID:10000105-1738492200-1738495800@radiantretreat.com
SUMMARY:Morning Watch at Cooper Chapel
DESCRIPTION:Make time for morning watch at the Mildred B. Cooper Memorial Chapel. Designed architect by E. Fay Jones\, and inspired by the pointed arches of Gothic cathedrals\, the chapel is a sanctuary of serene contemplation. Bring your Bible\, your journal\, and your uninterrupted thoughts for a quiet time of prayer and renewal. \nNOTE: The Chapel may be closed to visitors if it has been rented for a private event. Although this is unlikely on a Sunday morning\, it is possible.\n				\n			\n			\n						\n				\n									\n												\n								\n																				\n										\n						\n												\n										Priato Pizzeria \n			\n		0.0\n	\n		\n		\n		\n		\n		\n		\n			\n\n																						\n								\n																						\n						\n					\n								\n								\n								\n								\n					\n						\n							\n								\n									\n								\n							\n														\n								\n									\n								\n							\n																																									\n											\n				\n							\n		\n		\n		\n		\n		\n										\n			\n			\n		\n		Bentonville food truck and patio known for pizzas crafted with imported Italian flour\, slow-fermented for 48 hours\, and cooked at 800°F for the perfect [...]	\n\n		\n				\n						Address:\n			\n		\n			\n						1004 Southeast 5th Street\, Bentonville\, AR\, USA\, Bentonville\, Arkansas 72712											\n		\n\n\n		\n				\n						Website:\n			\n		\n		view our site\n	\n\n\n		\n					Restaurants  \n					Italian / Pizza  \n			\n\n\n																\n														\n\n																						\n					\n		\n\n\n\n\n\n\n\n\n\n\n\n\n\n 
URL:https://radiantretreat.com/event/morning-watch-at-cooper-chapel-2/
LOCATION:Mildred B. Cooper Chapel\, 504 Memorial Drive\, Bella Vista\, AR\, 72714\, United States
CATEGORIES:Bixby,Broken Arrow,Fayetteville,Sample,Tulsa Asbury,Tulsa Central,Tulsa Midtown
ATTACH;FMTTYPE=image/jpeg:https://radiantretreat.com/wp-content/uploads/2022/02/karsten-winegeart-ZV6VAKLsrpw-unsplash-CMP.jpg
END:VEVENT
BEGIN:VEVENT
DTSTART;TZID=America/Chicago:20250202T120000
DTEND;TZID=America/Chicago:20250202T120000
DTSTAMP:20260422T125053
CREATED:20250128T234013Z
LAST-MODIFIED:20250129T062256Z
UID:10000104-1738497600-1738497600@radiantretreat.com
SUMMARY:Hotel Check-out
DESCRIPTION:  \n \n 
URL:https://radiantretreat.com/event/hotel-check-out-3/
LOCATION:Hyatt Place Rogers Bentonville\, 4610 W Walnut St\, Rogers\, AR\, 72756\, United States
CATEGORIES:Bixby,Broken Arrow,Fayetteville,Tulsa Asbury,Tulsa Central,Tulsa Midtown
ATTACH;FMTTYPE=image/jpeg:https://radiantretreat.com/wp-content/uploads/2025/01/Hyatt-Place-Rogers_Bentonville-Exterior.jpg
END:VEVENT
BEGIN:VEVENT
DTSTART;TZID=America/Chicago:20250202T123000
DTEND;TZID=America/Chicago:20250202T133000
DTSTAMP:20260422T125053
CREATED:20250129T022713Z
LAST-MODIFIED:20250129T022713Z
UID:10000111-1738499400-1738503000@radiantretreat.com
SUMMARY:Lunch at Bentonville Taco and Tamale Co.
DESCRIPTION:Join us for an off-the-map lunch of Tex-Mex flavors with a local Arkansas twist. Meet in the original People’s Bank building (circa 1887)\, and enjoy dishes are created with local\, seasonal\, and Arkansas culinary influences and served with southern hospitality. \n				\n			\n			\n						\n				\n									\n												\n								\n																				\n										\n						\n												\n										Marsouls Comfort Food & Lounge \n			\n		0.0\n	\n		\n		\n		\n		\n		\n		\n			\n\n																						\n								\n																						\n						\n					\n								\n								\n								\n								\n					\n						\n							\n								\n									\n								\n							\n														\n								\n									\n								\n							\n																																										\n								\n									\n								\n							\n													\n											\n				\n							\n		\n		\n		\n		\n		\n										\n			\n			\n		\n		Soul Food with a modern culinary twist! Serving fried chicken and waffles\, shrimp and grits\, and more Southern favorites.\n	\n\n		\n				\n						Address:\n			\n		\n			\n						525 N 2nd St\, Rogers\, AR 72756\, USA\, Rogers\, Arkansas											\n		\n\n\n		\n				\n						Phone:\n			\n		\n				\n		(479) 278-7165\n			\n\n\n		\n				\n						Website:\n			\n		\n		view our site\n	\n\n\n		\n					Restaurants  \n					Comfort Food  \n					Southern  
URL:https://radiantretreat.com/event/lunch-at-bentonville-taco-and-tamale-co/
LOCATION:Bentonville Taco and Tamale Co.\, 101 W Central Ave\, Bentonville\, 72712\, United States
CATEGORIES:Tulsa Midtown
ATTACH;FMTTYPE=image/jpeg:https://radiantretreat.com/wp-content/uploads/2025/01/bville-taco-and-tamale-co-2.jpg
END:VEVENT
BEGIN:VEVENT
DTSTART;TZID=America/Chicago:20250202T123000
DTEND;TZID=America/Chicago:20250202T140000
DTSTAMP:20260422T125053
CREATED:20250129T060321Z
LAST-MODIFIED:20250129T062235Z
UID:10000119-1738499400-1738504800@radiantretreat.com
SUMMARY:Lunch at Crepes Paulette
DESCRIPTION:Pick your poison Crepes Paulette with a dizzying variety of savory and sweet crepes\, loaded with tasty fillings.  Fusing classic French technique with worldwide cuisines satisfies a variety of palettes\, from a classic Nutella banana sweet crêpe to a gluten free Thai savory crepe\, each handheld creation is made fresh to order with quality ingredients\, proprietary recipes and attention to detail. \n				\n			\n			\n						\n				\n									\n												\n								\n																				\n										\n						\n												\n										The Quiver Archery Range \n			\n		0.0\n	\n		\n		\n		\n		\n		\n		\n			\n\n																						\n								\n																						\n						\n					\n								\n								\n								\n								\n					\n						\n							\n								\n									\n								\n							\n														\n								\n									\n								\n							\n																																									\n											\n				\n							\n		\n		\n		\n		\n		\n										\n			\n			\n		\n		Outdoor facility with 20 lanes offering archery lessons and various equipment options.\n	\n\n		\n				\n						Address:\n			\n		\n			\n						1701 SW F St\, Bentonville\, AR 72712\, USA\, Bentonville\, Arkansas											\n		\n\n\n		\n				\n						Website:\n			\n		\n		view our site\n	\n\n\n		\n					Attractions  \n					Entertainment Venues  
URL:https://radiantretreat.com/event/lunch-at-crepes-paulette-3/
LOCATION:Crepes Paulette\, 100 SW 8th St #4\, Bentonville\, AR\, 72712\, United States
CATEGORIES:Bixby,Broken Arrow,Fayetteville,Tulsa Asbury,Tulsa Central
ATTACH;FMTTYPE=image/jpeg:https://radiantretreat.com/wp-content/uploads/2023/01/crepespaulette.jpg
END:VEVENT
BEGIN:VEVENT
DTSTART;TZID=America/Chicago:20250202T140000
DTEND;TZID=America/Chicago:20250202T160000
DTSTAMP:20260422T125053
CREATED:20250129T024836Z
LAST-MODIFIED:20250129T062225Z
UID:10000112-1738504800-1738512000@radiantretreat.com
SUMMARY:Coffee Hike at Coler Mountain
DESCRIPTION:Caffeinate for the drive home with a brisk hike to Airship Coffee at Coler Mountain Bike Preserve. The open-air roastery offers a variety of coffees and other drinks\, as well as baked goods\, tacos\, nachos\, and other snacks. Park at Coler Mountain Bike Preserve South Gateway (NW 3rd Street\, Bentonville) or Coler North Trailhead Parking Lot (Peach Orchard Rd\, Bentonville). The walk to the café in the center of the park is just under one mile.  (You’ll find restrooms available\, but no wifi.) \n				\n			\n			\n						\n				\n									\n												\n								\n																				\n										\n						\n												\n										Crêpes Paulette \n			\n		0.0\n	\n		\n		\n		\n		\n		\n		\n			\n\n																						\n								\n																						\n						\n					\n								\n								\n								\n								\n					\n						\n							\n								\n									\n								\n							\n														\n								\n									\n								\n							\n																																									\n											\n				\n							\n		\n		\n		\n		\n		\n										\n			\n			\n		\n		Authentic and fusion\, sweet and savory handheld crêpes served with a smile and a side of quirk.\n	\n\n		\n				\n						Address:\n			\n		\n			\n						100 Southwest 8th Street\, Bentonville\, AR\, USA\, #4\, Bentonville\, Arkansas 72712											\n		\n\n\n		\n				\n						Phone:\n			\n		\n				\n		(479) 250-1110\n			\n\n\n		\n				\n						Website:\n			\n		\n		view our site\n	\n\n\n		\n					Restaurants  \n					French / European  \n					Desserts & Sweets  \n			\n\n\n																\n														\n\n																						\n					\n		\n 
URL:https://radiantretreat.com/event/coffee-hike-at-coler-mountain/
LOCATION:Airship Coffee at Coler\, 1300 Applegate Trail\, Bentonville\, 72712\, United States
CATEGORIES:Bixby,Broken Arrow,Fayetteville,Tulsa Asbury,Tulsa Central,Tulsa Midtown
ATTACH;FMTTYPE=image/jpeg:https://radiantretreat.com/wp-content/uploads/2025/01/coler-mountain-bridge.jpg
END:VEVENT
END:VCALENDAR