BEGIN:VCALENDAR
VERSION:2.0
PRODID:-//Radiant Moms&#039; Retreat - ECPv6.15.15//NONSGML v1.0//EN
CALSCALE:GREGORIAN
METHOD:PUBLISH
X-WR-CALNAME:Radiant Moms&#039; Retreat
X-ORIGINAL-URL:https://radiantretreat.com
X-WR-CALDESC:Events for Radiant Moms&#039; Retreat
REFRESH-INTERVAL;VALUE=DURATION:PT1H
X-Robots-Tag:noindex
X-PUBLISHED-TTL:PT1H
BEGIN:VTIMEZONE
TZID:America/Chicago
BEGIN:DAYLIGHT
TZOFFSETFROM:-0600
TZOFFSETTO:-0500
TZNAME:CDT
DTSTART:20240310T080000
END:DAYLIGHT
BEGIN:STANDARD
TZOFFSETFROM:-0500
TZOFFSETTO:-0600
TZNAME:CST
DTSTART:20241103T070000
END:STANDARD
BEGIN:DAYLIGHT
TZOFFSETFROM:-0600
TZOFFSETTO:-0500
TZNAME:CDT
DTSTART:20250309T080000
END:DAYLIGHT
BEGIN:STANDARD
TZOFFSETFROM:-0500
TZOFFSETTO:-0600
TZNAME:CST
DTSTART:20251102T070000
END:STANDARD
BEGIN:DAYLIGHT
TZOFFSETFROM:-0600
TZOFFSETTO:-0500
TZNAME:CDT
DTSTART:20260308T080000
END:DAYLIGHT
BEGIN:STANDARD
TZOFFSETFROM:-0500
TZOFFSETTO:-0600
TZNAME:CST
DTSTART:20261101T070000
END:STANDARD
END:VTIMEZONE
BEGIN:VEVENT
DTSTART;VALUE=DATE:20250131
DTEND;VALUE=DATE:20250203
DTSTAMP:20260422T094717
CREATED:20241226T031813Z
LAST-MODIFIED:20250116T024246Z
UID:10000096-1738281600-1738540799@radiantretreat.com
SUMMARY:Radiant Moms' Retreat 2025
DESCRIPTION:  \n\n\n\nGrab your gals for a getaway!\nRadiant Moms’ Retreat is a retreat for all mothers with children enrolled in Classical Conversations® — including Foundations\, Essentials\, or Challenge programs. Our 7th Annual Radiant Moms’ Retreat will be held January 31-February 2\, 2025\, in Northwest Arkansas. Radiant Moms’ Retreat will be devoted to rest\, renewal\, and relationships. Pick and choose meals and activities from a thoughtful\, mom-focused Itinerary to make this retreat your very own. Share a meal with other moms. Dig into God’s Word and spend some quiet time in prayer. Sleep late. Enjoy a little art and culture. Be encouraged by other women who are sharing this journey with you. Early Registration for the retreat starts at just $19! Each attendee is also responsible for her own lodging\, meals\, transportation\, and activities. Early Registration ends January 17th\, so register today! \n\n\n\n\n\n\n\n\n\n\n \n\n\n\n 
URL:https://radiantretreat.com/event/radiant-moms-retreat-2025/
LOCATION:Northwest Arkansas
END:VEVENT
BEGIN:VEVENT
DTSTART;TZID=America/Chicago:20250131T130000
DTEND;TZID=America/Chicago:20250131T140000
DTSTAMP:20260422T094717
CREATED:20250128T224531Z
LAST-MODIFIED:20250128T224654Z
UID:10000097-1738328400-1738332000@radiantretreat.com
SUMMARY:Lunch at El Jicaro
DESCRIPTION:Join us for an authentic Salvadoran lunch at El Jicaro. Choose from an extensive menu of Latin family recipes\, such as homemade pupusas\, tamales\, and much more. \n				\n			\n			\n						\n				\n									\n												\n								\n																				\n										\n						\n												\n										Priato Pizzeria \n			\n		0.0\n	\n		\n		\n		\n		\n		\n		\n			\n\n																						\n								\n																						\n						\n					\n								\n								\n								\n								\n					\n						\n							\n								\n									\n								\n							\n														\n								\n									\n								\n							\n																																									\n											\n				\n							\n		\n		\n		\n		\n		\n										\n			\n			\n		\n		Bentonville food truck and patio known for pizzas crafted with imported Italian flour\, slow-fermented for 48 hours\, and cooked at 800°F for the perfect [...]	\n\n		\n				\n						Address:\n			\n		\n			\n						1004 Southeast 5th Street\, Bentonville\, AR\, USA\, Bentonville\, Arkansas 72712											\n		\n\n\n		\n				\n						Website:\n			\n		\n		view our site\n	\n\n\n		\n					Restaurants  \n					Italian / Pizza  
URL:https://radiantretreat.com/event/lunch-at-el-jicaro/
LOCATION:El Jicaro Salvadoran Restaurant\, 1207 West Walnut\, Rogers\, 72756\, United States
CATEGORIES:Tulsa Midtown
ATTACH;FMTTYPE=image/jpeg:https://radiantretreat.com/wp-content/uploads/2025/01/El-JIcaro.jpg
END:VEVENT
BEGIN:VEVENT
DTSTART;TZID=America/Chicago:20250131T130000
DTEND;TZID=America/Chicago:20250131T140000
DTSTAMP:20260422T094717
CREATED:20250129T045500Z
LAST-MODIFIED:20250129T062538Z
UID:10000113-1738328400-1738332000@radiantretreat.com
SUMMARY:Lunch at Marsouls
DESCRIPTION:“Meat” us at Marsouls for soul food with a modern culinary twist. Choose from favorites like fried chicken and waffles\, shrimp and grits\, or other Southern classics — all executed with bold flavors\, fresh ingredients\, and warm hospitality. \n				\n			\n			\n						\n				\n									\n												\n								\n																				\n										\n						\n												\n										Marsouls Comfort Food & Lounge \n			\n		0.0\n	\n		\n		\n		\n		\n		\n		\n			\n\n																						\n								\n																						\n						\n					\n								\n								\n								\n								\n					\n						\n							\n								\n									\n								\n							\n														\n								\n									\n								\n							\n																																										\n								\n									\n								\n							\n													\n											\n				\n							\n		\n		\n		\n		\n		\n										\n			\n			\n		\n		Soul Food with a modern culinary twist! Serving fried chicken and waffles\, shrimp and grits\, and more Southern favorites.\n	\n\n		\n				\n						Address:\n			\n		\n			\n						525 N 2nd St\, Rogers\, AR 72756\, USA\, Rogers\, Arkansas											\n		\n\n\n		\n				\n						Phone:\n			\n		\n				\n		(479) 278-7165\n			\n\n\n		\n				\n						Website:\n			\n		\n		view our site\n	\n\n\n		\n					Restaurants  \n					Comfort Food  \n					Southern  
URL:https://radiantretreat.com/event/lunch-at-marsouls/
LOCATION:Marsouls\, 525 N 2nd St\, Rogers\, 72756\, United States
CATEGORIES:Bixby,Broken Arrow,Fayetteville,Tulsa Asbury,Tulsa Central
ATTACH;FMTTYPE=image/jpeg:https://radiantretreat.com/wp-content/uploads/2025/01/marsouls.jpg
END:VEVENT
BEGIN:VEVENT
DTSTART;TZID=America/Chicago:20250131T140000
DTEND;TZID=America/Chicago:20250131T170000
DTSTAMP:20260422T094717
CREATED:20250128T231240Z
LAST-MODIFIED:20250129T062531Z
UID:10000100-1738332000-1738342800@radiantretreat.com
SUMMARY:Shopping in Downtown Rogers
DESCRIPTION:Meet up in Downtown Rogers for the best selection of local shops and boutiques. Grab a coffee and sample the offerings from apparel and accessories for women and children\, as well as home decor\, gifts\, used books\, specialty foods\, and much more! \nIn and Near Downtown Rogers:\n				\n			\n			\n						\n				\n									\n												\n								\n																				\n										\n						\n												\n										The Quiver Archery Range \n			\n		0.0\n	\n		\n		\n		\n		\n		\n		\n			\n\n																						\n								\n																						\n						\n					\n								\n								\n								\n								\n					\n						\n							\n								\n									\n								\n							\n														\n								\n									\n								\n							\n																																									\n											\n				\n							\n		\n		\n		\n		\n		\n										\n			\n			\n		\n		Outdoor facility with 20 lanes offering archery lessons and various equipment options.\n	\n\n		\n				\n						Address:\n			\n		\n			\n						1701 SW F St\, Bentonville\, AR 72712\, USA\, Bentonville\, Arkansas											\n		\n\n\n		\n				\n						Website:\n			\n		\n		view our site\n	\n\n\n		\n					Attractions  \n					Entertainment Venues  
URL:https://radiantretreat.com/event/shopping-in-downtown-rogers/
LOCATION:Downtown Rogers\, 100 1st Street\, AR\, 72756\, United States
CATEGORIES:Bixby,Broken Arrow,Fayetteville,Tulsa Asbury,Tulsa Central,Tulsa Midtown
ATTACH;FMTTYPE=image/jpeg:https://radiantretreat.com/wp-content/uploads/2023/02/rogers.jpg
END:VEVENT
BEGIN:VEVENT
DTSTART;TZID=America/Chicago:20250131T150000
DTEND;TZID=America/Chicago:20250131T150000
DTSTAMP:20260422T094717
CREATED:20250128T233902Z
LAST-MODIFIED:20250129T062517Z
UID:10000103-1738335600-1738335600@radiantretreat.com
SUMMARY:Hotel Check-in
DESCRIPTION:  \n\n\n\n\n\n\n\n\n\n\n\n\n\n 
URL:https://radiantretreat.com/event/hotel-check-in-5/
LOCATION:Hyatt Place Rogers Bentonville\, 4610 W Walnut St\, Rogers\, AR\, 72756\, United States
CATEGORIES:Bixby,Broken Arrow,Fayetteville,Tulsa Asbury,Tulsa Central,Tulsa Midtown
ATTACH;FMTTYPE=image/jpeg:https://radiantretreat.com/wp-content/uploads/2025/01/Hyatt-Place-Rogers_Bentonville-Exterior.jpg
END:VEVENT
BEGIN:VEVENT
DTSTART;TZID=America/Chicago:20250131T190000
DTEND;TZID=America/Chicago:20250131T200000
DTSTAMP:20260422T094717
CREATED:20250128T225353Z
LAST-MODIFIED:20250128T230541Z
UID:10000098-1738350000-1738353600@radiantretreat.com
SUMMARY:Dinner at Marsouls
DESCRIPTION:“Meat” us at Marsouls for soul food with a modern culinary twist. Choose from favorites like fried chicken and waffles\, shrimp and grits\, or other Southern classics — all executed with bold flavors\, fresh ingredients\, and warm hospitality. \n				\n			\n			\n						\n				\n									\n												\n								\n																				\n										\n						\n												\n										Crêpes Paulette \n			\n		0.0\n	\n		\n		\n		\n		\n		\n		\n			\n\n																						\n								\n																						\n						\n					\n								\n								\n								\n								\n					\n						\n							\n								\n									\n								\n							\n														\n								\n									\n								\n							\n																																									\n											\n				\n							\n		\n		\n		\n		\n		\n										\n			\n			\n		\n		Authentic and fusion\, sweet and savory handheld crêpes served with a smile and a side of quirk.\n	\n\n		\n				\n						Address:\n			\n		\n			\n						100 Southwest 8th Street\, Bentonville\, AR\, USA\, #4\, Bentonville\, Arkansas 72712											\n		\n\n\n		\n				\n						Phone:\n			\n		\n				\n		(479) 250-1110\n			\n\n\n		\n				\n						Website:\n			\n		\n		view our site\n	\n\n\n		\n					Restaurants  \n					French / European  \n					Desserts & Sweets  
URL:https://radiantretreat.com/event/dinner-at-marsouls/
LOCATION:Marsouls\, 525 N 2nd St\, Rogers\, 72756\, United States
CATEGORIES:Tulsa Midtown
ATTACH;FMTTYPE=image/jpeg:https://radiantretreat.com/wp-content/uploads/2025/01/marsouls.jpg
END:VEVENT
BEGIN:VEVENT
DTSTART;TZID=America/Chicago:20250131T190000
DTEND;TZID=America/Chicago:20250131T200000
DTSTAMP:20260422T094717
CREATED:20250129T050131Z
LAST-MODIFIED:20250129T062504Z
UID:10000114-1738350000-1738353600@radiantretreat.com
SUMMARY:Dinner at El Jicaro
DESCRIPTION:Join us for an authentic Salvadoran meal at El Jicaro. Choose from an extensive menu of Latin family recipes\, such as homemade pupusas\, tamales\, and much more. \n				\n			\n			\n						\n				\n									\n												\n								\n																				\n										\n						\n												\n										The Momentary \n			\n		0.0\n	\n		\n		\n		\n		\n		\n		\n			\n\n																						\n								\n																						\n						\n					\n								\n								\n								\n								\n					\n						\n							\n								\n									\n								\n							\n														\n								\n									\n								\n							\n																																									\n											\n				\n							\n		\n		\n		\n		\n		\n										\n			\n			\n		\n		Discover live music\, explore captivating art\, catch an event\, or just relax. General admission is always free.\n	\n\n		\n				\n						Address:\n			\n		\n			\n						507 SE E St\, Bentonville\, AR 72712\, USA\, Bentonville\, Arkansas											\n		\n\n\n		\n				\n						Website:\n			\n		\n		themomentary.org\n	\n\n\n		\n					Attractions  \n					Museums  \n					Entertainment Venues  
URL:https://radiantretreat.com/event/dinner-at-el-jicaro/
LOCATION:El Jicaro Salvadoran Restaurant\, 1207 West Walnut\, Rogers\, 72756\, United States
CATEGORIES:Bixby,Broken Arrow,Fayetteville,Tulsa Asbury,Tulsa Central
ATTACH;FMTTYPE=image/jpeg:https://radiantretreat.com/wp-content/uploads/2025/01/El-JIcaro.jpg
END:VEVENT
BEGIN:VEVENT
DTSTART;TZID=America/Chicago:20250131T200000
DTEND;TZID=America/Chicago:20250131T210000
DTSTAMP:20260422T094717
CREATED:20250128T225551Z
LAST-MODIFIED:20250129T062457Z
UID:10000099-1738353600-1738357200@radiantretreat.com
SUMMARY:Dessert at Gelatissimo
DESCRIPTION:Put a sweet end to the evening with a visit to Gelatissimo just around the corner. Choose from dozens of award-winning artisan gelato flavors made using traditional techniques\, with fresh\, seasonal ingredients\, and indulgent inclusions. \n				\n			\n			\n						\n				\n									\n												\n								\n																				\n										\n						\n												\n										Crystal Bridges Museum of American Art \n			\n		5.0\n	\n		\n		\n		\n		\n		\n		\n			\n\n																						\n								\n																						\n						\n					\n								\n								\n								\n								\n					\n						\n							\n								\n									\n								\n							\n														\n								\n									\n								\n							\n																																									\n											\n				\n							\n		\n		\n		\n		\n		\n										\n			\n			\n		\n		Renowned collection ranging from Rockwell to Warhol\, and set on 120 acres of walking trails\, sculpture\, and architectural treasures.\n	\n\n		\n				\n						Address:\n			\n		\n			\n						600 Museum Way\, Bentonville\, Arkansas 72712											\n		\n\n\n		\n				\n						Phone:\n			\n		\n				\n		(479) 418-5700\n			\n\n\n		\n				\n						Website:\n			\n		\n		crystalbridges.org\n	\n\n\n		\n					Attractions  \n					Museums  
URL:https://radiantretreat.com/event/dessert-at-gelatissimo/
LOCATION:Gelatissimo Downtown Rogers\, 226 S 1st St\, Rogers\, 72756\, United States
CATEGORIES:Bixby,Broken Arrow,Fayetteville,Tulsa Asbury,Tulsa Central,Tulsa Midtown
ATTACH;FMTTYPE=image/png:https://radiantretreat.com/wp-content/uploads/2025/01/gelatissimo.png
END:VEVENT
BEGIN:VEVENT
DTSTART;TZID=America/Chicago:20250131T203000
DTEND;TZID=America/Chicago:20250131T223000
DTSTAMP:20260422T094717
CREATED:20250128T234851Z
LAST-MODIFIED:20250129T062450Z
UID:10000072-1738355400-1738362600@radiantretreat.com
SUMMARY:Bunco Night in the Hospitality Suite
DESCRIPTION:Jump into your jammies (optional) and join us for the fun! We’re going to throw down — restfully\, of course — with a night of games and good friends. Bring some snacks or a beverage to share and join us in the Hospitality Suite for this easy-to-learn game\, good conversations\, and fun. \n\n\n\n\n\n\n\n\n\n\n\n\n\n 
URL:https://radiantretreat.com/event/bunco-night-in-the-hospitality-suite/
LOCATION:Hyatt Place Rogers Bentonville\, 4610 W Walnut St\, Rogers\, AR\, 72756\, United States
CATEGORIES:Bartlesville,Bixby,Broken Arrow,Conway,Fayetteville,Greenbrier,Moore,Owasso,Sample,Tulsa Asbury,Tulsa Central,Tulsa Midtown
ATTACH;FMTTYPE=image/jpeg:https://radiantretreat.com/wp-content/uploads/2025/01/pexels-clickerhappy-705171-scaled.jpg
END:VEVENT
END:VCALENDAR